BEGIN:VCALENDAR
VERSION:2.0
PRODID:-//Squarespace Inc/Squarespace 6//v6//EN
BEGIN:VEVENT
UID:58a954b42e69cf0bf2ba2f39@squarespace.com
DTSTAMP:20170222T010035Z
DTSTART:20170413T073000Z
DTEND:20170413T083000Z
SUMMARY:One Fine Day
GEO:-28.647367;153.601977
LOCATION:Business Name\, Byron Bay\, NSW\, Australia
END:VEVENT
END:VCALENDAR
