BEGIN:VCALENDAR
VERSION:2.0
PRODID:-//Squarespace Inc/Squarespace 6//v6//EN
BEGIN:VEVENT
UID:58a9544cd482e974647a072a@squarespace.com
DTSTAMP:20170416T013848Z
DTSTART:20170322T073000Z
DTEND:20170322T083000Z
SUMMARY:Byron Bay Wedding Fair
END:VEVENT
END:VCALENDAR
